BEGIN:VCALENDAR
VERSION:2.0
PRODID:-//Ealing Chess Club - ECPv6.15.20//NONSGML v1.0//EN
CALSCALE:GREGORIAN
METHOD:PUBLISH
X-WR-CALNAME:Ealing Chess Club
X-ORIGINAL-URL:https://ealingchess.com
X-WR-CALDESC:Events for Ealing Chess Club
REFRESH-INTERVAL;VALUE=DURATION:PT1H
X-Robots-Tag:noindex
X-PUBLISHED-TTL:PT1H
BEGIN:VTIMEZONE
TZID:Europe/London
BEGIN:DAYLIGHT
TZOFFSETFROM:+0000
TZOFFSETTO:+0100
TZNAME:BST
DTSTART:20240331T010000
END:DAYLIGHT
BEGIN:STANDARD
TZOFFSETFROM:+0100
TZOFFSETTO:+0000
TZNAME:GMT
DTSTART:20241027T010000
END:STANDARD
BEGIN:DAYLIGHT
TZOFFSETFROM:+0000
TZOFFSETTO:+0100
TZNAME:BST
DTSTART:20250330T010000
END:DAYLIGHT
BEGIN:STANDARD
TZOFFSETFROM:+0100
TZOFFSETTO:+0000
TZNAME:GMT
DTSTART:20251026T010000
END:STANDARD
BEGIN:DAYLIGHT
TZOFFSETFROM:+0000
TZOFFSETTO:+0100
TZNAME:BST
DTSTART:20260329T010000
END:DAYLIGHT
BEGIN:STANDARD
TZOFFSETFROM:+0100
TZOFFSETTO:+0000
TZNAME:GMT
DTSTART:20261025T010000
END:STANDARD
END:VTIMEZONE
BEGIN:VEVENT
DTSTART;TZID=Europe/London:20250605T193000
DTEND;TZID=Europe/London:20250605T223000
DTSTAMP:20260419T145402
CREATED:20250310T173132Z
LAST-MODIFIED:20250611T153047Z
UID:3616-1749151800-1749162600@ealingchess.com
SUMMARY:Hillingdon Div 3 : Uxbridge D v Ealing C
DESCRIPTION:
URL:https://ealingchess.com/event/hillingdon-div-3-uxbridge-d-v-ealing-c/
END:VEVENT
BEGIN:VEVENT
DTSTART;TZID=Europe/London:20250609T193000
DTEND;TZID=Europe/London:20250609T223000
DTSTAMP:20260419T145402
CREATED:20250310T213607Z
LAST-MODIFIED:20250310T213607Z
UID:3707-1749497400-1749508200@ealingchess.com
SUMMARY:Middlesex Div 1 : Ealing 1 v Albany
DESCRIPTION:
URL:https://ealingchess.com/event/middlesex-div-1-ealing-1-v-albany/
END:VEVENT
END:VCALENDAR