BEGIN:VCALENDAR
VERSION:2.0
PRODID:-//Ealing Chess Club - ECPv6.15.20//NONSGML v1.0//EN
CALSCALE:GREGORIAN
METHOD:PUBLISH
X-ORIGINAL-URL:https://ealingchess.com
X-WR-CALDESC:Events for Ealing Chess Club
REFRESH-INTERVAL;VALUE=DURATION:PT1H
X-Robots-Tag:noindex
X-PUBLISHED-TTL:PT1H
BEGIN:VTIMEZONE
TZID:Europe/London
BEGIN:DAYLIGHT
TZOFFSETFROM:+0000
TZOFFSETTO:+0100
TZNAME:BST
DTSTART:20240331T010000
END:DAYLIGHT
BEGIN:STANDARD
TZOFFSETFROM:+0100
TZOFFSETTO:+0000
TZNAME:GMT
DTSTART:20241027T010000
END:STANDARD
BEGIN:DAYLIGHT
TZOFFSETFROM:+0000
TZOFFSETTO:+0100
TZNAME:BST
DTSTART:20250330T010000
END:DAYLIGHT
BEGIN:STANDARD
TZOFFSETFROM:+0100
TZOFFSETTO:+0000
TZNAME:GMT
DTSTART:20251026T010000
END:STANDARD
BEGIN:DAYLIGHT
TZOFFSETFROM:+0000
TZOFFSETTO:+0100
TZNAME:BST
DTSTART:20260329T010000
END:DAYLIGHT
BEGIN:STANDARD
TZOFFSETFROM:+0100
TZOFFSETTO:+0000
TZNAME:GMT
DTSTART:20261025T010000
END:STANDARD
END:VTIMEZONE
BEGIN:VEVENT
DTSTART;TZID=Europe/London:20250501T193000
DTEND;TZID=Europe/London:20250501T223000
DTSTAMP:20260419T164224
CREATED:20250310T213607Z
LAST-MODIFIED:20250310T213607Z
UID:3704-1746127800-1746138600@ealingchess.com
SUMMARY:Middlesex Div 1 : Kings Head 1 v Ealing 1
DESCRIPTION:
URL:https://ealingchess.com/event/middlesex-div-1-kings-head-1-v-ealing-1/
END:VEVENT
BEGIN:VEVENT
DTSTART;TZID=Europe/London:20250512T193000
DTEND;TZID=Europe/London:20250512T223000
DTSTAMP:20260419T164224
CREATED:20250310T172932Z
LAST-MODIFIED:20250310T172932Z
UID:3611-1747078200-1747089000@ealingchess.com
SUMMARY:Hillingdon Div 3 : Ealing C v Harrow F
DESCRIPTION:
URL:https://ealingchess.com/event/hillingdon-div-3-ealing-c-v-harrow-f/
END:VEVENT
BEGIN:VEVENT
DTSTART;TZID=Europe/London:20250512T193000
DTEND;TZID=Europe/London:20250512T223000
DTSTAMP:20260419T164224
CREATED:20250310T180719Z
LAST-MODIFIED:20250310T180719Z
UID:3668-1747078200-1747089000@ealingchess.com
SUMMARY:TVCL Div 1 : Kingston A v Ealing A
DESCRIPTION:
URL:https://ealingchess.com/event/tvcl-div-1-kingston-a-v-ealing-a/
END:VEVENT
BEGIN:VEVENT
DTSTART;TZID=Europe/London:20250512T193000
DTEND;TZID=Europe/London:20250512T223000
DTSTAMP:20260419T164224
CREATED:20250310T180734Z
LAST-MODIFIED:20250310T180734Z
UID:3669-1747078200-1747089000@ealingchess.com
SUMMARY:TVCL Div 3 : Ealing D v Maidenhead C
DESCRIPTION:
URL:https://ealingchess.com/event/tvcl-div-3-ealing-d-v-maidenhead-c/
END:VEVENT
BEGIN:VEVENT
DTSTART;TZID=Europe/London:20250512T193000
DTEND;TZID=Europe/London:20250512T223000
DTSTAMP:20260419T164224
CREATED:20250310T213607Z
LAST-MODIFIED:20250310T213607Z
UID:3705-1747078200-1747089000@ealingchess.com
SUMMARY:Middlesex Div 3 : Ealing 2 v Hendon BK
DESCRIPTION:
URL:https://ealingchess.com/event/middlesex-div-3-ealing-2-v-hendon-bk/
END:VEVENT
BEGIN:VEVENT
DTSTART;TZID=Europe/London:20250519T193000
DTEND;TZID=Europe/London:20250519T223000
DTSTAMP:20260419T164224
CREATED:20250310T173132Z
LAST-MODIFIED:20250310T173132Z
UID:3612-1747683000-1747693800@ealingchess.com
SUMMARY:Hillingdon Div 1 : Ealing A v Greenford A
DESCRIPTION:
URL:https://ealingchess.com/event/hillingdon-div-1-ealing-a-v-greenford-a/
END:VEVENT
BEGIN:VEVENT
DTSTART;TZID=Europe/London:20250519T193000
DTEND;TZID=Europe/London:20250519T223000
DTSTAMP:20260419T164224
CREATED:20250310T173132Z
LAST-MODIFIED:20250310T173132Z
UID:3613-1747683000-1747693800@ealingchess.com
SUMMARY:Hillingdon Div 2 : Ealing B v Harrow C
DESCRIPTION:
URL:https://ealingchess.com/event/hillingdon-div-2-ealing-b-v-harrow-c/
END:VEVENT
BEGIN:VEVENT
DTSTART;TZID=Europe/London:20250522T193000
DTEND;TZID=Europe/London:20250522T223000
DTSTAMP:20260419T164224
CREATED:20250310T213607Z
LAST-MODIFIED:20250310T213607Z
UID:3706-1747942200-1747953000@ealingchess.com
SUMMARY:Middlesex Div 3 : Harrow 2 v Ealing 2
DESCRIPTION:
URL:https://ealingchess.com/event/middlesex-div-3-harrow-2-v-ealing-2/
END:VEVENT
BEGIN:VEVENT
DTSTART;TZID=Europe/London:20250527T193000
DTEND;TZID=Europe/London:20250527T223000
DTSTAMP:20260419T164224
CREATED:20250310T180734Z
LAST-MODIFIED:20250310T180734Z
UID:3670-1748374200-1748385000@ealingchess.com
SUMMARY:TVCL Div 1 : Richmond & Twickenham A v Ealing A
DESCRIPTION:
URL:https://ealingchess.com/event/tvcl-div-1-richmond-twickenham-a-v-ealing-a/
END:VEVENT
END:VCALENDAR