BEGIN:VCALENDAR
VERSION:2.0
PRODID:-//Ealing Chess Club - ECPv6.15.20//NONSGML v1.0//EN
CALSCALE:GREGORIAN
METHOD:PUBLISH
X-WR-CALNAME:Ealing Chess Club
X-ORIGINAL-URL:https://ealingchess.com
X-WR-CALDESC:Events for Ealing Chess Club
REFRESH-INTERVAL;VALUE=DURATION:PT1H
X-Robots-Tag:noindex
X-PUBLISHED-TTL:PT1H
BEGIN:VTIMEZONE
TZID:Europe/London
BEGIN:DAYLIGHT
TZOFFSETFROM:+0000
TZOFFSETTO:+0100
TZNAME:BST
DTSTART:20210328T010000
END:DAYLIGHT
BEGIN:STANDARD
TZOFFSETFROM:+0100
TZOFFSETTO:+0000
TZNAME:GMT
DTSTART:20211031T010000
END:STANDARD
BEGIN:DAYLIGHT
TZOFFSETFROM:+0000
TZOFFSETTO:+0100
TZNAME:BST
DTSTART:20220327T010000
END:DAYLIGHT
BEGIN:STANDARD
TZOFFSETFROM:+0100
TZOFFSETTO:+0000
TZNAME:GMT
DTSTART:20221030T010000
END:STANDARD
BEGIN:DAYLIGHT
TZOFFSETFROM:+0000
TZOFFSETTO:+0100
TZNAME:BST
DTSTART:20230326T010000
END:DAYLIGHT
BEGIN:STANDARD
TZOFFSETFROM:+0100
TZOFFSETTO:+0000
TZNAME:GMT
DTSTART:20231029T010000
END:STANDARD
BEGIN:DAYLIGHT
TZOFFSETFROM:+0000
TZOFFSETTO:+0100
TZNAME:BST
DTSTART:20240331T010000
END:DAYLIGHT
BEGIN:STANDARD
TZOFFSETFROM:+0100
TZOFFSETTO:+0000
TZNAME:GMT
DTSTART:20241027T010000
END:STANDARD
END:VTIMEZONE
BEGIN:VEVENT
DTSTART;TZID=Europe/London:20230626T193000
DTEND;TZID=Europe/London:20230626T220000
DTSTAMP:20260423T150135
CREATED:20221025T224115Z
LAST-MODIFIED:20230324T162852Z
UID:1791-1687807800-1687816800@ealingchess.com
SUMMARY:Middx Chess League: Ealing v Hammersmith 1\,division 1
DESCRIPTION:
URL:https://ealingchess.com/event/middx-chess-league-ealing-v-hammersmith-1division-1/
CATEGORIES:Middx Ealing Fixtures 2022-2023
END:VEVENT
BEGIN:VEVENT
DTSTART;TZID=Europe/London:20230619T193000
DTEND;TZID=Europe/London:20230619T220000
DTSTAMP:20260423T150135
CREATED:20221025T224113Z
LAST-MODIFIED:20230324T163100Z
UID:1786-1687203000-1687212000@ealingchess.com
SUMMARY:Middx Chess League: Ealing v Kings Head 1\,division 1
DESCRIPTION:
URL:https://ealingchess.com/event/middx-chess-league-ealing-v-kings-head-1division-1/
CATEGORIES:Middx Ealing Fixtures 2022-2023
END:VEVENT
BEGIN:VEVENT
DTSTART;TZID=Europe/London:20230612T193000
DTEND;TZID=Europe/London:20230612T220000
DTSTAMP:20260423T150135
CREATED:20221025T224115Z
LAST-MODIFIED:20230604T180113Z
UID:1793-1686598200-1686607200@ealingchess.com
SUMMARY:Middx Chess League: Ealing v Hackney\,division 1
DESCRIPTION:
URL:https://ealingchess.com/event/middx-chess-league-ealing-v-hackneydivision-1/
CATEGORIES:Middx Ealing Fixtures 2022-2023
END:VEVENT
BEGIN:VEVENT
DTSTART;TZID=Europe/London:20230524T193000
DTEND;TZID=Europe/London:20230524T220000
DTSTAMP:20260423T150135
CREATED:20221025T230709Z
LAST-MODIFIED:20221025T230709Z
UID:1806-1684956600-1684965600@ealingchess.com
SUMMARY:Middx Chess League: Kings Head 1 v Ealing\,division 1
DESCRIPTION:
URL:https://ealingchess.com/event/middx-chess-league-kings-head-1-v-ealingdivision-1/
CATEGORIES:Middx Ealing Fixtures 2022-2023
END:VEVENT
BEGIN:VEVENT
DTSTART;TZID=Europe/London:20230515T193000
DTEND;TZID=Europe/London:20230515T220000
DTSTAMP:20260423T150135
CREATED:20221025T230709Z
LAST-MODIFIED:20221025T230709Z
UID:1805-1684179000-1684188000@ealingchess.com
SUMMARY:Middx Chess League: Ealing v Muswell Hill 1\,division 1
DESCRIPTION:
URL:https://ealingchess.com/event/middx-chess-league-ealing-v-muswell-hill-1division-1/
CATEGORIES:Middx Ealing Fixtures 2022-2023
END:VEVENT
BEGIN:VEVENT
DTSTART;TZID=Europe/London:20230420T193000
DTEND;TZID=Europe/London:20230420T220000
DTSTAMP:20260423T150135
CREATED:20221025T224115Z
LAST-MODIFIED:20221025T230708Z
UID:1792-1682019000-1682028000@ealingchess.com
SUMMARY:Middx Chess League: Hendon 1 v Ealing\,division 1
DESCRIPTION:
URL:https://ealingchess.com/event/middx-chess-league-hendon-1-v-ealingdivision-1/
CATEGORIES:Middx Ealing Fixtures 2022-2023
END:VEVENT
BEGIN:VEVENT
DTSTART;TZID=Europe/London:20230228T193000
DTEND;TZID=Europe/London:20230228T220000
DTSTAMP:20260423T150135
CREATED:20221025T224115Z
LAST-MODIFIED:20221025T230708Z
UID:1790-1677612600-1677621600@ealingchess.com
SUMMARY:Middx Chess League: Hammersmith 1 v Ealing\,division 1
DESCRIPTION:
URL:https://ealingchess.com/event/middx-chess-league-hammersmith-1-v-ealingdivision-1/
CATEGORIES:Middx Ealing Fixtures 2022-2023
END:VEVENT
BEGIN:VEVENT
DTSTART;TZID=Europe/London:20230223T193000
DTEND;TZID=Europe/London:20230223T220000
DTSTAMP:20260423T150135
CREATED:20221025T224115Z
LAST-MODIFIED:20221025T230708Z
UID:1789-1677180600-1677189600@ealingchess.com
SUMMARY:Middx Chess League: Metropolitan v Ealing\,division 1
DESCRIPTION:
URL:https://ealingchess.com/event/middx-chess-league-metropolitan-v-ealingdivision-1/
CATEGORIES:Middx Ealing Fixtures 2022-2023
END:VEVENT
BEGIN:VEVENT
DTSTART;TZID=Europe/London:20230131T193000
DTEND;TZID=Europe/London:20230131T220000
DTSTAMP:20260423T150135
CREATED:20221025T224113Z
LAST-MODIFIED:20221025T230706Z
UID:1788-1675193400-1675202400@ealingchess.com
SUMMARY:Middx Chess League: Hackney v Ealing\,division 1
DESCRIPTION:
URL:https://ealingchess.com/event/middx-chess-league-hackney-v-ealingdivision-1/
CATEGORIES:Middx Ealing Fixtures 2022-2023
END:VEVENT
BEGIN:VEVENT
DTSTART;TZID=Europe/London:20230117T193000
DTEND;TZID=Europe/London:20230117T220000
DTSTAMP:20260423T150135
CREATED:20221025T224113Z
LAST-MODIFIED:20221025T230706Z
UID:1787-1673983800-1673992800@ealingchess.com
SUMMARY:Middx Chess League: Muswell Hill 1 v Ealing\,division 1
DESCRIPTION:
URL:https://ealingchess.com/event/middx-chess-league-muswell-hill-1-v-ealingdivision-1/
CATEGORIES:Middx Ealing Fixtures 2022-2023
END:VEVENT
BEGIN:VEVENT
DTSTART;TZID=Europe/London:20221121T193000
DTEND;TZID=Europe/London:20221121T220000
DTSTAMP:20260423T150135
CREATED:20221025T224112Z
LAST-MODIFIED:20221025T230706Z
UID:1785-1669059000-1669068000@ealingchess.com
SUMMARY:Middx Chess League: Ealing v Metropolitan\,division 1
DESCRIPTION:
URL:https://ealingchess.com/event/middx-chess-league-ealing-v-metropolitandivision-1/
CATEGORIES:Middx Ealing Fixtures 2022-2023
END:VEVENT
BEGIN:VEVENT
DTSTART;TZID=Europe/London:20221107T193000
DTEND;TZID=Europe/London:20221107T220000
DTSTAMP:20260423T150135
CREATED:20221025T224112Z
LAST-MODIFIED:20221025T230706Z
UID:1784-1667849400-1667858400@ealingchess.com
SUMMARY:Middx Chess League:  Ealing v Hendon 1\,division 1
DESCRIPTION:
URL:https://ealingchess.com/event/middx-chess-league-ealing-v-hendon-1division-1/
CATEGORIES:Middx Ealing Fixtures 2022-2023
END:VEVENT
END:VCALENDAR