BEGIN:VCALENDAR
VERSION:2.0
PRODID:-//Ealing Chess Club - ECPv6.15.20//NONSGML v1.0//EN
CALSCALE:GREGORIAN
METHOD:PUBLISH
X-ORIGINAL-URL:https://ealingchess.com
X-WR-CALDESC:Events for Ealing Chess Club
REFRESH-INTERVAL;VALUE=DURATION:PT1H
X-Robots-Tag:noindex
X-PUBLISHED-TTL:PT1H
BEGIN:VTIMEZONE
TZID:Europe/London
BEGIN:DAYLIGHT
TZOFFSETFROM:+0000
TZOFFSETTO:+0100
TZNAME:BST
DTSTART:20210328T010000
END:DAYLIGHT
BEGIN:STANDARD
TZOFFSETFROM:+0100
TZOFFSETTO:+0000
TZNAME:GMT
DTSTART:20211031T010000
END:STANDARD
BEGIN:DAYLIGHT
TZOFFSETFROM:+0000
TZOFFSETTO:+0100
TZNAME:BST
DTSTART:20220327T010000
END:DAYLIGHT
BEGIN:STANDARD
TZOFFSETFROM:+0100
TZOFFSETTO:+0000
TZNAME:GMT
DTSTART:20221030T010000
END:STANDARD
BEGIN:DAYLIGHT
TZOFFSETFROM:+0000
TZOFFSETTO:+0100
TZNAME:BST
DTSTART:20230326T010000
END:DAYLIGHT
BEGIN:STANDARD
TZOFFSETFROM:+0100
TZOFFSETTO:+0000
TZNAME:GMT
DTSTART:20231029T010000
END:STANDARD
BEGIN:DAYLIGHT
TZOFFSETFROM:+0000
TZOFFSETTO:+0100
TZNAME:BST
DTSTART:20240331T010000
END:DAYLIGHT
BEGIN:STANDARD
TZOFFSETFROM:+0100
TZOFFSETTO:+0000
TZNAME:GMT
DTSTART:20241027T010000
END:STANDARD
END:VTIMEZONE
BEGIN:VEVENT
DTSTART;TZID=Europe/London:20230605T193000
DTEND;TZID=Europe/London:20230605T220000
DTSTAMP:20260421T174356
CREATED:20221025T234608Z
LAST-MODIFIED:20230420T182438Z
UID:1839-1685993400-1686002400@ealingchess.com
SUMMARY:Hillingdon League: Ealing B (Div 2) v Harrow Jnr B
DESCRIPTION:
URL:https://ealingchess.com/event/hillingdon-league-ealing-b-div-2-v-harrow-jnr-b/
CATEGORIES:Hillingdon Fixtures 2022 - 2023
END:VEVENT
BEGIN:VEVENT
DTSTART;TZID=Europe/London:20230605T193000
DTEND;TZID=Europe/London:20230605T220000
DTSTAMP:20260421T174356
CREATED:20221025T234554Z
LAST-MODIFIED:20230420T181935Z
UID:1838-1685993400-1686002400@ealingchess.com
SUMMARY:Hillingdon League: Ealing C (Div 3) v Harrow C
DESCRIPTION:
URL:https://ealingchess.com/event/hillingdon-league-ealing-c-div-3-v-harrow-c/
CATEGORIES:Hillingdon Fixtures 2022 - 2023
END:VEVENT
BEGIN:VEVENT
DTSTART;TZID=Europe/London:20230530T193000
DTEND;TZID=Europe/London:20230530T220000
DTSTAMP:20260421T174356
CREATED:20221025T235334Z
LAST-MODIFIED:20221025T235334Z
UID:1870-1685475000-1685484000@ealingchess.com
SUMMARY:Hillingdon League: Ealing A (Div 1) v West London A
DESCRIPTION:
URL:https://ealingchess.com/event/hillingdon-league-ealing-a-div-1-v-west-london-a/
CATEGORIES:Hillingdon Fixtures 2022 - 2023
END:VEVENT
BEGIN:VEVENT
DTSTART;TZID=Europe/London:20230502T193000
DTEND;TZID=Europe/London:20230502T220000
DTSTAMP:20260421T174356
CREATED:20221025T234609Z
LAST-MODIFIED:20221025T235319Z
UID:1843-1683055800-1683064800@ealingchess.com
SUMMARY:Hillingdon League: Hatch End A v Ealing A (Div 1)
DESCRIPTION:
URL:https://ealingchess.com/event/hillingdon-league-hatch-end-a-v-ealing-a-div-1/
CATEGORIES:Hillingdon Fixtures 2022 - 2023
END:VEVENT
BEGIN:VEVENT
DTSTART;TZID=Europe/London:20230424T193000
DTEND;TZID=Europe/London:20230424T220000
DTSTAMP:20260421T174356
CREATED:20221025T234609Z
LAST-MODIFIED:20221025T235319Z
UID:1842-1682364600-1682373600@ealingchess.com
SUMMARY:Hillingdon League: Ealing B (Div 2) v Harrow Jnr A
DESCRIPTION:
URL:https://ealingchess.com/event/hillingdon-league-ealing-b-div-2-v-harrow-jnr-a/
CATEGORIES:Hillingdon Fixtures 2022 - 2023
END:VEVENT
BEGIN:VEVENT
DTSTART;TZID=Europe/London:20230411T193000
DTEND;TZID=Europe/London:20230411T220000
DTSTAMP:20260421T174356
CREATED:20221025T234609Z
LAST-MODIFIED:20221025T235319Z
UID:1841-1681241400-1681250400@ealingchess.com
SUMMARY:Hillingdon League: Ealing A (Div 1) v Harrow A
DESCRIPTION:
URL:https://ealingchess.com/event/hillingdon-league-ealing-a-div-1-v-harrow-a/
CATEGORIES:Hillingdon Fixtures 2022 - 2023
END:VEVENT
BEGIN:VEVENT
DTSTART;TZID=Europe/London:20230403T193000
DTEND;TZID=Europe/London:20230403T220000
DTSTAMP:20260421T174356
CREATED:20221025T234608Z
LAST-MODIFIED:20221025T235319Z
UID:1840-1680550200-1680559200@ealingchess.com
SUMMARY:Hillingdon League: Ealing B (Div 2) v Uxbridge C
DESCRIPTION:
URL:https://ealingchess.com/event/hillingdon-league-ealing-b-div-2-v-uxbridge-c/
CATEGORIES:Hillingdon Fixtures 2022 - 2023
END:VEVENT
BEGIN:VEVENT
DTSTART;TZID=Europe/London:20230317T193000
DTEND;TZID=Europe/London:20230317T220000
DTSTAMP:20260421T174356
CREATED:20221025T234553Z
LAST-MODIFIED:20221025T235305Z
UID:1837-1679081400-1679090400@ealingchess.com
SUMMARY:Hillingdon League: Uxbridge Jnr B v Ealing C (Div 3)
DESCRIPTION:
URL:https://ealingchess.com/event/hillingdon-league-uxbridge-jnr-b-v-ealing-c-div-3/
CATEGORIES:Hillingdon Fixtures 2022 - 2023
END:VEVENT
BEGIN:VEVENT
DTSTART;TZID=Europe/London:20230315T193000
DTEND;TZID=Europe/London:20230315T220000
DTSTAMP:20260421T174356
CREATED:20221025T234553Z
LAST-MODIFIED:20221025T235305Z
UID:1836-1678908600-1678917600@ealingchess.com
SUMMARY:Hillingdon League: Uxbridge A v Ealing A (Div 1)
DESCRIPTION:
URL:https://ealingchess.com/event/hillingdon-league-uxbridge-a-v-ealing-a-div-1/
CATEGORIES:Hillingdon Fixtures 2022 - 2023
END:VEVENT
BEGIN:VEVENT
DTSTART;TZID=Europe/London:20230309T193000
DTEND;TZID=Europe/London:20230309T220000
DTSTAMP:20260421T174356
CREATED:20221025T234553Z
LAST-MODIFIED:20221025T235305Z
UID:1835-1678390200-1678399200@ealingchess.com
SUMMARY:Hillingdon League: Harrow Jnr A v Ealing B (Div 2)
DESCRIPTION:
URL:https://ealingchess.com/event/hillingdon-league-harrow-jnr-a-v-ealing-b-div-2/
CATEGORIES:Hillingdon Fixtures 2022 - 2023
END:VEVENT
BEGIN:VEVENT
DTSTART;TZID=Europe/London:20230308T193000
DTEND;TZID=Europe/London:20230308T220000
DTSTAMP:20260421T174356
CREATED:20221025T234553Z
LAST-MODIFIED:20221025T235304Z
UID:1834-1678303800-1678312800@ealingchess.com
SUMMARY:Hillingdon League: Uxbridge C v Ealing B (Div 2)
DESCRIPTION:
URL:https://ealingchess.com/event/hillingdon-league-uxbridge-c-v-ealing-b-div-2/
CATEGORIES:Hillingdon Fixtures 2022 - 2023
END:VEVENT
BEGIN:VEVENT
DTSTART;TZID=Europe/London:20230302T193000
DTEND;TZID=Europe/London:20230302T220000
DTSTAMP:20260421T174356
CREATED:20221025T234539Z
LAST-MODIFIED:20221025T235249Z
UID:1833-1677785400-1677794400@ealingchess.com
SUMMARY:Hillingdon League: Harrow B v Ealing B (Div 2)
DESCRIPTION:
URL:https://ealingchess.com/event/hillingdon-league-harrow-b-v-ealing-b-div-2/
CATEGORIES:Hillingdon Fixtures 2022 - 2023
END:VEVENT
BEGIN:VEVENT
DTSTART;TZID=Europe/London:20230224T193000
DTEND;TZID=Europe/London:20230224T220000
DTSTAMP:20260421T174356
CREATED:20221025T234538Z
LAST-MODIFIED:20221025T235249Z
UID:1832-1677267000-1677276000@ealingchess.com
SUMMARY:Hillingdon League: Uxbridge Jnr A v Ealing C (Div 3)
DESCRIPTION:
URL:https://ealingchess.com/event/hillingdon-league-uxbridge-jnr-a-v-ealing-c-div-3/
CATEGORIES:Hillingdon Fixtures 2022 - 2023
END:VEVENT
BEGIN:VEVENT
DTSTART;TZID=Europe/London:20230215T193000
DTEND;TZID=Europe/London:20230215T220000
DTSTAMP:20260421T174356
CREATED:20221025T234538Z
LAST-MODIFIED:20221025T235249Z
UID:1831-1676489400-1676498400@ealingchess.com
SUMMARY:Hillingdon League: Uxbridge D v Ealing C (Div 3)
DESCRIPTION:
URL:https://ealingchess.com/event/hillingdon-league-uxbridge-d-v-ealing-c-div-3/
CATEGORIES:Hillingdon Fixtures 2022 - 2023
END:VEVENT
BEGIN:VEVENT
DTSTART;TZID=Europe/London:20230201T193000
DTEND;TZID=Europe/London:20230201T220000
DTSTAMP:20260421T174356
CREATED:20221025T234538Z
LAST-MODIFIED:20221025T235249Z
UID:1830-1675279800-1675288800@ealingchess.com
SUMMARY:Hillingdon League: Uxbridge B v Ealing B (Div 2)
DESCRIPTION:
URL:https://ealingchess.com/event/hillingdon-league-uxbridge-b-v-ealing-b-div-2/
CATEGORIES:Hillingdon Fixtures 2022 - 2023
END:VEVENT
BEGIN:VEVENT
DTSTART;TZID=Europe/London:20230130T193000
DTEND;TZID=Europe/London:20230130T220000
DTSTAMP:20260421T174356
CREATED:20221025T234538Z
LAST-MODIFIED:20221025T235249Z
UID:1829-1675107000-1675116000@ealingchess.com
SUMMARY:Hillingdon League: Ealing A (Div 1) v Hatch End A
DESCRIPTION:
URL:https://ealingchess.com/event/hillingdon-league-ealing-a-div-1-v-hatch-end-a/
CATEGORIES:Hillingdon Fixtures 2022 - 2023
END:VEVENT
BEGIN:VEVENT
DTSTART;TZID=Europe/London:20230116T193000
DTEND;TZID=Europe/London:20230116T220000
DTSTAMP:20260421T174356
CREATED:20221025T234523Z
LAST-MODIFIED:20221025T235234Z
UID:1827-1673897400-1673906400@ealingchess.com
SUMMARY:Hillingdon League: Ealing C (Div 3) v Uxbridge D
DESCRIPTION:
URL:https://ealingchess.com/event/hillingdon-league-ealing-c-div-3-v-uxbridge-d/
CATEGORIES:Hillingdon Fixtures 2022 - 2023
END:VEVENT
BEGIN:VEVENT
DTSTART;TZID=Europe/London:20230116T193000
DTEND;TZID=Europe/London:20230116T220000
DTSTAMP:20260421T174356
CREATED:20221025T234523Z
LAST-MODIFIED:20221025T235234Z
UID:1828-1673897400-1673906400@ealingchess.com
SUMMARY:Hillingdon League: Ealing B (Div 2) v Uxbridge B
DESCRIPTION:
URL:https://ealingchess.com/event/hillingdon-league-ealing-b-div-2-v-uxbridge-b/
CATEGORIES:Hillingdon Fixtures 2022 - 2023
END:VEVENT
BEGIN:VEVENT
DTSTART;TZID=Europe/London:20230109T193000
DTEND;TZID=Europe/London:20230109T220000
DTSTAMP:20260421T174356
CREATED:20221025T234523Z
LAST-MODIFIED:20221025T235234Z
UID:1826-1673292600-1673301600@ealingchess.com
SUMMARY:Hillingdon League: Ealing B (Div 2) v Harrow B
DESCRIPTION:
URL:https://ealingchess.com/event/hillingdon-league-ealing-b-div-2-v-harrow-b/
CATEGORIES:Hillingdon Fixtures 2022 - 2023
END:VEVENT
BEGIN:VEVENT
DTSTART;TZID=Europe/London:20230106T193000
DTEND;TZID=Europe/London:20230106T220000
DTSTAMP:20260421T174356
CREATED:20221025T234523Z
LAST-MODIFIED:20221025T235234Z
UID:1825-1673033400-1673042400@ealingchess.com
SUMMARY:Hillingdon League: Greenford A v Ealing A (Div 1)
DESCRIPTION:
URL:https://ealingchess.com/event/hillingdon-league-greenford-a-v-ealing-a-div-1/
CATEGORIES:Hillingdon Fixtures 2022 - 2023
END:VEVENT
BEGIN:VEVENT
DTSTART;TZID=Europe/London:20230104T193000
DTEND;TZID=Europe/London:20230104T220000
DTSTAMP:20260421T174356
CREATED:20221025T234523Z
LAST-MODIFIED:20221025T235234Z
UID:1824-1672860600-1672869600@ealingchess.com
SUMMARY:Hillingdon League: West London A v Ealing A (Div 1)
DESCRIPTION:
URL:https://ealingchess.com/event/hillingdon-league-west-london-a-v-ealing-a-div-1/
CATEGORIES:Hillingdon Fixtures 2022 - 2023
END:VEVENT
BEGIN:VEVENT
DTSTART;TZID=Europe/London:20221219T193000
DTEND;TZID=Europe/London:20221219T220000
DTSTAMP:20260421T174356
CREATED:20221025T234508Z
LAST-MODIFIED:20221025T235233Z
UID:1818-1671478200-1671487200@ealingchess.com
SUMMARY:Hillingdon League: Ealing B (Div 2) v Watford A
DESCRIPTION:
URL:https://ealingchess.com/event/hillingdon-league-ealing-b-div-2-v-watford-a/
CATEGORIES:Hillingdon Fixtures 2022 - 2023
END:VEVENT
BEGIN:VEVENT
DTSTART;TZID=Europe/London:20221219T193000
DTEND;TZID=Europe/London:20221219T220000
DTSTAMP:20260421T174356
CREATED:20221025T234507Z
LAST-MODIFIED:20221025T235233Z
UID:1817-1671478200-1671487200@ealingchess.com
SUMMARY:Hillingdon League: Ealing A (Div 1) v Greenford A
DESCRIPTION:
URL:https://ealingchess.com/event/hillingdon-league-ealing-a-div-1-v-greenford-a/
CATEGORIES:Hillingdon Fixtures 2022 - 2023
END:VEVENT
BEGIN:VEVENT
DTSTART;TZID=Europe/London:20221212T193000
DTEND;TZID=Europe/London:20221212T220000
DTSTAMP:20260421T174356
CREATED:20221025T234507Z
LAST-MODIFIED:20221025T235233Z
UID:1816-1670873400-1670882400@ealingchess.com
SUMMARY:Hillingdon League: Ealing A (Div 1) v Uxbridge A
DESCRIPTION:
URL:https://ealingchess.com/event/hillingdon-league-ealing-a-div-1-v-uxbridge-a/
CATEGORIES:Hillingdon Fixtures 2022 - 2023
END:VEVENT
BEGIN:VEVENT
DTSTART;TZID=Europe/London:20221205T193000
DTEND;TZID=Europe/London:20221205T220000
DTSTAMP:20260421T174356
CREATED:20221025T234507Z
LAST-MODIFIED:20221025T235233Z
UID:1815-1670268600-1670277600@ealingchess.com
SUMMARY:Hillingdon League: Ealing B (Div 2) v Hatch End B
DESCRIPTION:
URL:https://ealingchess.com/event/hillingdon-league-ealing-b-div-2-v-hatch-end-b/
CATEGORIES:Hillingdon Fixtures 2022 - 2023
END:VEVENT
BEGIN:VEVENT
DTSTART;TZID=Europe/London:20221201T193000
DTEND;TZID=Europe/London:20221201T220000
DTSTAMP:20260421T174356
CREATED:20221025T234507Z
LAST-MODIFIED:20221025T235233Z
UID:1814-1669923000-1669932000@ealingchess.com
SUMMARY:Hillingdon League: Harrow Jnr B v Ealing B (Div 2)
DESCRIPTION:
URL:https://ealingchess.com/event/hillingdon-league-harrow-jnr-b-v-ealing-b-div-2/
CATEGORIES:Hillingdon Fixtures 2022 - 2023
END:VEVENT
BEGIN:VEVENT
DTSTART;TZID=Europe/London:20221201T193000
DTEND;TZID=Europe/London:20221201T220000
DTSTAMP:20260421T174356
CREATED:20221025T234505Z
LAST-MODIFIED:20221025T235231Z
UID:1813-1669923000-1669932000@ealingchess.com
SUMMARY:Hillingdon League: Harrow C v Ealing C (Div 3)
DESCRIPTION:
URL:https://ealingchess.com/event/hillingdon-league-harrow-c-v-ealing-c-div-3/
CATEGORIES:Hillingdon Fixtures 2022 - 2023
END:VEVENT
BEGIN:VEVENT
DTSTART;TZID=Europe/London:20221122T193000
DTEND;TZID=Europe/London:20221122T220000
DTSTAMP:20260421T174356
CREATED:20221025T234505Z
LAST-MODIFIED:20221025T235231Z
UID:1812-1669145400-1669154400@ealingchess.com
SUMMARY:Hillingdon League: Hatch End B v Ealing B (Div 2)
DESCRIPTION:
URL:https://ealingchess.com/event/hillingdon-league-hatch-end-b-v-ealing-b-div-2/
CATEGORIES:Hillingdon Fixtures 2022 - 2023
END:VEVENT
BEGIN:VEVENT
DTSTART;TZID=Europe/London:20221114T193000
DTEND;TZID=Europe/London:20221114T220000
DTSTAMP:20260421T174356
CREATED:20221025T234505Z
LAST-MODIFIED:20221025T235231Z
UID:1811-1668454200-1668463200@ealingchess.com
SUMMARY:Hillingdon League: Ealing C (Div 3) v Uxbridge Jnr B
DESCRIPTION:
URL:https://ealingchess.com/event/hillingdon-league-ealing-c-div-3-v-uxbridge-jnr-b/
CATEGORIES:Hillingdon Fixtures 2022 - 2023
END:VEVENT
BEGIN:VEVENT
DTSTART;TZID=Europe/London:20221017T193000
DTEND;TZID=Europe/London:20221017T220000
DTSTAMP:20260421T174356
CREATED:20221025T234505Z
LAST-MODIFIED:20221025T235231Z
UID:1810-1666035000-1666044000@ealingchess.com
SUMMARY:Hillingdon League: Ealing C (Div 3) v Uxbridge Jnr A
DESCRIPTION:
URL:https://ealingchess.com/event/hillingdon-league-ealing-c-div-3-v-uxbridge-jnr-a/
CATEGORIES:Hillingdon Fixtures 2022 - 2023
END:VEVENT
END:VCALENDAR