BEGIN:VCALENDAR
VERSION:2.0
PRODID:-//Ealing Chess Club - ECPv6.15.20//NONSGML v1.0//EN
CALSCALE:GREGORIAN
METHOD:PUBLISH
X-ORIGINAL-URL:https://ealingchess.com
X-WR-CALDESC:Events for Ealing Chess Club
REFRESH-INTERVAL;VALUE=DURATION:PT1H
X-Robots-Tag:noindex
X-PUBLISHED-TTL:PT1H
BEGIN:VTIMEZONE
TZID:Europe/London
BEGIN:DAYLIGHT
TZOFFSETFROM:+0000
TZOFFSETTO:+0100
TZNAME:BST
DTSTART:20240331T010000
END:DAYLIGHT
BEGIN:STANDARD
TZOFFSETFROM:+0100
TZOFFSETTO:+0000
TZNAME:GMT
DTSTART:20241027T010000
END:STANDARD
BEGIN:DAYLIGHT
TZOFFSETFROM:+0000
TZOFFSETTO:+0100
TZNAME:BST
DTSTART:20250330T010000
END:DAYLIGHT
BEGIN:STANDARD
TZOFFSETFROM:+0100
TZOFFSETTO:+0000
TZNAME:GMT
DTSTART:20251026T010000
END:STANDARD
BEGIN:DAYLIGHT
TZOFFSETFROM:+0000
TZOFFSETTO:+0100
TZNAME:BST
DTSTART:20260329T010000
END:DAYLIGHT
BEGIN:STANDARD
TZOFFSETFROM:+0100
TZOFFSETTO:+0000
TZNAME:GMT
DTSTART:20261025T010000
END:STANDARD
END:VTIMEZONE
BEGIN:VEVENT
DTSTART;TZID=Europe/London:20250310T193000
DTEND;TZID=Europe/London:20250310T223000
DTSTAMP:20260423T160130
CREATED:20250310T172902Z
LAST-MODIFIED:20250310T172902Z
UID:3600-1741635000-1741645800@ealingchess.com
SUMMARY:Hillingdon Div 2 : Ealing B v Harrow Juniors B
DESCRIPTION:
URL:https://ealingchess.com/event/hillingdon-div-2-ealing-b-v-harrow-juniors-b/
END:VEVENT
BEGIN:VEVENT
DTSTART;TZID=Europe/London:20250310T193000
DTEND;TZID=Europe/London:20250310T223000
DTSTAMP:20260423T160130
CREATED:20250310T180649Z
LAST-MODIFIED:20250310T180649Z
UID:3654-1741635000-1741645800@ealingchess.com
SUMMARY:TVCL Div 3 : Ealing D v Wimbledon B
DESCRIPTION:
URL:https://ealingchess.com/event/tvcl-div-3-ealing-d-v-wimbledon-b/
END:VEVENT
BEGIN:VEVENT
DTSTART;TZID=Europe/London:20250310T193000
DTEND;TZID=Europe/London:20250310T223000
DTSTAMP:20260423T160130
CREATED:20250310T213552Z
LAST-MODIFIED:20250310T213552Z
UID:3698-1741635000-1741645800@ealingchess.com
SUMMARY:Middlesex Div 1 : Albany v Ealing 1
DESCRIPTION:
URL:https://ealingchess.com/event/middlesex-div-1-albany-v-ealing-1/
END:VEVENT
END:VCALENDAR