BEGIN:VCALENDAR
VERSION:2.0
PRODID:-//Ealing Chess Club - ECPv6.15.20//NONSGML v1.0//EN
CALSCALE:GREGORIAN
METHOD:PUBLISH
X-WR-CALNAME:Ealing Chess Club
X-ORIGINAL-URL:https://ealingchess.com
X-WR-CALDESC:Events for Ealing Chess Club
REFRESH-INTERVAL;VALUE=DURATION:PT1H
X-Robots-Tag:noindex
X-PUBLISHED-TTL:PT1H
BEGIN:VTIMEZONE
TZID:Europe/London
BEGIN:DAYLIGHT
TZOFFSETFROM:+0000
TZOFFSETTO:+0100
TZNAME:BST
DTSTART:20240331T010000
END:DAYLIGHT
BEGIN:STANDARD
TZOFFSETFROM:+0100
TZOFFSETTO:+0000
TZNAME:GMT
DTSTART:20241027T010000
END:STANDARD
BEGIN:DAYLIGHT
TZOFFSETFROM:+0000
TZOFFSETTO:+0100
TZNAME:BST
DTSTART:20250330T010000
END:DAYLIGHT
BEGIN:STANDARD
TZOFFSETFROM:+0100
TZOFFSETTO:+0000
TZNAME:GMT
DTSTART:20251026T010000
END:STANDARD
BEGIN:DAYLIGHT
TZOFFSETFROM:+0000
TZOFFSETTO:+0100
TZNAME:BST
DTSTART:20260329T010000
END:DAYLIGHT
BEGIN:STANDARD
TZOFFSETFROM:+0100
TZOFFSETTO:+0000
TZNAME:GMT
DTSTART:20261025T010000
END:STANDARD
END:VTIMEZONE
BEGIN:VEVENT
DTSTART;TZID=Europe/London:20250303T193000
DTEND;TZID=Europe/London:20250303T223000
DTSTAMP:20260419T195507
CREATED:20250310T180634Z
LAST-MODIFIED:20250310T180634Z
UID:3653-1741030200-1741041000@ealingchess.com
SUMMARY:TVCL Div 3 : Ealing D v Richmond & Twickenham D
DESCRIPTION:
URL:https://ealingchess.com/event/tvcl-div-3-ealing-d-v-richmond-twickenham-d/
END:VEVENT
BEGIN:VEVENT
DTSTART;TZID=Europe/London:20250303T193000
DTEND;TZID=Europe/London:20250303T223000
DTSTAMP:20260419T195507
CREATED:20250310T180634Z
LAST-MODIFIED:20250310T180634Z
UID:3652-1741030200-1741041000@ealingchess.com
SUMMARY:TVCL Div 1 : Ealing A v Richmond & Twickenham A
DESCRIPTION:
URL:https://ealingchess.com/event/tvcl-div-1-ealing-a-v-richmond-twickenham-a/
END:VEVENT
BEGIN:VEVENT
DTSTART;TZID=Europe/London:20250303T193000
DTEND;TZID=Europe/London:20250303T223000
DTSTAMP:20260419T195507
CREATED:20250310T213537Z
LAST-MODIFIED:20250310T213537Z
UID:3697-1741030200-1741041000@ealingchess.com
SUMMARY:Middlesex Div 3 : Ealing 2 v Kings Head 3
DESCRIPTION:
URL:https://ealingchess.com/event/middlesex-div-3-ealing-2-v-kings-head-3/
END:VEVENT
END:VCALENDAR